BEGIN:VCALENDAR
VERSION:2.0
PRODID:-//National Institute of Justice//NONSGML Event Calendar//EN
BEGIN:VEVENT
UID:913ff817-924b-4e6b-96e7-262dc51e26e1
DTSTART;TZID=UTC:20210518T170000
SEQUENCE:0
TRANSP:OPAQUE
DTEND;TZID=UTC:20210518T180000
LOCATION:https://nij.ojp.gov/events/postmortem-computed-tomography-potpourr
 i-unnatural-deaths
SUMMARY:Postmortem Computed Tomography Potpourri of Unnatural Deaths
CLASS:PUBLIC
DESCRIPTION:Learn more about this event: https://nij.ojp.gov/events/postmor
 tem-computed-tomography-potpourri-unnatural-deaths
DTSTAMP:20210514T120411Z
END:VEVENT
END:VCALENDAR