BEGIN:VCALENDAR
VERSION:2.0
PRODID:-//National Institute of Justice//NONSGML Event Calendar//EN
BEGIN:VEVENT
UID:cc6d1387-310a-464d-a5a6-88fedbb58cfc
DTSTART;TZID=UTC:20230627T170000
SEQUENCE:0
TRANSP:OPAQUE
DTEND;TZID=UTC:20230627T180000
LOCATION:https://nij.ojp.gov/events/development-analytical-methods-measurin
 g-d9-thc-cannabis-products
SUMMARY: Development of Analytical Methods for Measuring Δ9-THC in Cannabi
 s Products
CLASS:PUBLIC
DESCRIPTION:Más información sobre este evento: https://nij.ojp.gov/events
 /development-analytical-methods-measuring-d9-thc-cannabis-products
DTSTAMP:20260425T142617Z
END:VEVENT
END:VCALENDAR